BEGIN:VCALENDAR
VERSION:2.0
PRODID:-//wp-events-plugin.com//6.5.2.2//EN
TZID:Europe/Berlin
X-WR-TIMEZONE:Europe/Berlin
BEGIN:VEVENT
UID:108@sfp-hayingen.de
DTSTART;TZID=Europe/Berlin:20250828T160000
DTEND;TZID=Europe/Berlin:20250828T180000
DTSTAMP:20250616T134226Z
URL:https://sfp-hayingen.de/programm/was-lebt-im-wasser-wassertiere-erfors
 chen/
SUMMARY:Was lebt im Wasser? Wassertiere erforschen!
DESCRIPTION:Was lebt eigentlich in unseren Gewässern? Wir KESCHERN und unt
 ersuchen\, und bestimmen gefangene Wassertiere mit Lupe und Mikroskop. Wie
  lassen sie sich in die Nahrungskette einordnen? Sind sie Beute oder Räub
 er?\n\n&nbsp\;\n\nVeranstalter: Alb Guide Maria Tittor\n\nAnsprechpartneri
 n: Maria Tittor 0172 6374863\, hausaachtalblick@gmx.de\n\nVeranstaltungsor
 t/Treffpunkt: Hofladen der Hopfenburg in Münsingen\n\n&nbsp\;\n\nTermin: 
 Donnerstag\, 28.08.2025\n\nZeit (von-bis): 16:00 Uhr – 18:00 Uhr\n\n&nbs
 p\;\n\nTeilnehmerzahl: 8 - 25 Teilnehmer\n\nAlter der Teilnehmer: ab 6 Jah
 re\n\n&nbsp\;\n\nInformationen / Mitzubringen: \n\nKleidung die nass werde
 n darf\, Umziehkleidung\, Badeschuhe oder Schuhe mit denen die Kinder im W
 asser stehen können.Ersatzschuhe\, Handtuch\, Vesper und Getränk\n\n&nbs
 p\;\n\nKosten pro Teilnehmer:\n\nKinder 5\,00 EUR (restl. 3\,00 EUR übern
 immt SFP)\,\n\nErwachsene 8\,00 EUR
ATTACH;FMTTYPE=image/jpeg:https://sfp-hayingen.de/wp-content/uploads/Molch
 .png
CATEGORIES:Veranstaltung
LOCATION:Hopfenburg Münsingen Hofladen\, Hopfenburg 12\, Münsingen\, Bade
 n-Württemberg\, 72525\, Deutschland
X-APPLE-STRUCTURED-LOCATION;VALUE=URI;X-ADDRESS=Hopfenburg 12\, Münsingen\
 , Baden-Württemberg\, 72525\, Deutschland;X-APPLE-RADIUS=100;X-TITLE=Hopf
 enburg Münsingen Hofladen:geo:0,0
END:VEVENT
BEGIN:VTIMEZONE
TZID:Europe/Berlin
X-LIC-LOCATION:Europe/Berlin
BEGIN:DAYLIGHT
DTSTART:20250330T030000
TZOFFSETFROM:+0100
TZOFFSETTO:+0200
TZNAME:CEST
END:DAYLIGHT
END:VTIMEZONE
END:VCALENDAR